BEGIN:VCALENDAR
VERSION:2.0
PRODID:-//UNKE Gruppe - ECPv6.8.2.1//NONSGML v1.0//EN
CALSCALE:GREGORIAN
METHOD:PUBLISH
X-WR-CALNAME:UNKE Gruppe
X-ORIGINAL-URL:https://unke-gruppe.de
X-WR-CALDESC:Veranstaltungen für UNKE Gruppe
REFRESH-INTERVAL;VALUE=DURATION:PT1H
X-Robots-Tag:noindex
X-PUBLISHED-TTL:PT1H
BEGIN:VTIMEZONE
TZID:Europe/Berlin
BEGIN:DAYLIGHT
TZOFFSETFROM:+0100
TZOFFSETTO:+0200
TZNAME:CEST
DTSTART:20260329T010000
END:DAYLIGHT
BEGIN:STANDARD
TZOFFSETFROM:+0200
TZOFFSETTO:+0100
TZNAME:CET
DTSTART:20261025T010000
END:STANDARD
END:VTIMEZONE
BEGIN:VEVENT
DTSTART;TZID=Europe/Berlin:20260507T193000
DTEND;TZID=Europe/Berlin:20260507T210000
DTSTAMP:20260420T190931
CREATED:20250527T184007Z
LAST-MODIFIED:20260417T185816Z
UID:1329-1778182200-1778187600@unke-gruppe.de
SUMMARY:UNKE-Treff
DESCRIPTION:Immer am 1. Donnerstag im Monat! \nTreffpunkt: Weinbar 1911 in Deidesheim. \nAuf der Agenda steht: \n\nGeschäftsführer der Tourist Service GmbH Deidesheim\, Stefan Wemhoener\, stellt den Tourismus in der VG Deidesheim im Zeichen des Klimawandels vor\nMöglicher Arbeitseinsatz an der Wassersammelstelle „Knoppenweth“\nInfo: Stadtradeln\nVerschiedenes\n\nDauer ca. 1 1/2 Stunden 😉. \nWir freuen uns auf eine rege Diskussion !
URL:https://unke-gruppe.de/veranstaltung/unke-treff-6/
LOCATION:Deidesheim
CATEGORIES:Gruppen-Treff
END:VEVENT
END:VCALENDAR