BEGIN:VCALENDAR
VERSION:2.0
PRODID:-//UNKE Gruppe - ECPv6.8.2.1//NONSGML v1.0//EN
CALSCALE:GREGORIAN
METHOD:PUBLISH
X-ORIGINAL-URL:https://unke-gruppe.de
X-WR-CALDESC:Veranstaltungen für UNKE Gruppe
REFRESH-INTERVAL;VALUE=DURATION:PT1H
X-Robots-Tag:noindex
X-PUBLISHED-TTL:PT1H
BEGIN:VTIMEZONE
TZID:Europe/Berlin
BEGIN:DAYLIGHT
TZOFFSETFROM:+0100
TZOFFSETTO:+0200
TZNAME:CEST
DTSTART:20260329T010000
END:DAYLIGHT
BEGIN:STANDARD
TZOFFSETFROM:+0200
TZOFFSETTO:+0100
TZNAME:CET
DTSTART:20261025T010000
END:STANDARD
END:VTIMEZONE
BEGIN:VEVENT
DTSTART;TZID=Europe/Berlin:20260503T110000
DTEND;TZID=Europe/Berlin:20260503T150000
DTSTAMP:20260420T160018
CREATED:20260223T132238Z
LAST-MODIFIED:20260418T090133Z
UID:1378-1777806000-1777820400@unke-gruppe.de
SUMMARY:Info-Stand auf dem Meckenheimer Pflanzenmarkt
DESCRIPTION:Unsere Umweltgruppe ist auf dem Meckenheimer Pflanzenmarkt mit einem Infostand vertreten. \nAchtung: Aufgrund der Bauarbeiten am Rathausgelände findet der Markt in diesem Jahr am Feuerwehrgerätehaus\, Böhler Straße 5\, statt. \nHier geht es um naturnahes Gärtnern und Wasserrückhaltung. \nZudem bietet der NABU Mittelhaardt Wildstauden zum Verkauf an. \nKommt einfach vorbei 😉 ! \n 
URL:https://unke-gruppe.de/veranstaltung/info-stand-auf-dem-meckenheimer-pflanzenmarkt-2/
LOCATION:Meckenheim
CATEGORIES:Aktion
END:VEVENT
END:VCALENDAR