BEGIN:VCALENDAR
VERSION:2.0
PRODID:-//UNKE Gruppe - ECPv6.8.2.1//NONSGML v1.0//EN
CALSCALE:GREGORIAN
METHOD:PUBLISH
X-ORIGINAL-URL:https://unke-gruppe.de
X-WR-CALDESC:Veranstaltungen für UNKE Gruppe
REFRESH-INTERVAL;VALUE=DURATION:PT1H
X-Robots-Tag:noindex
X-PUBLISHED-TTL:PT1H
BEGIN:VTIMEZONE
TZID:Europe/Berlin
BEGIN:DAYLIGHT
TZOFFSETFROM:+0100
TZOFFSETTO:+0200
TZNAME:CEST
DTSTART:20260329T010000
END:DAYLIGHT
BEGIN:STANDARD
TZOFFSETFROM:+0200
TZOFFSETTO:+0100
TZNAME:CET
DTSTART:20261025T010000
END:STANDARD
END:VTIMEZONE
BEGIN:VEVENT
DTSTART;TZID=Europe/Berlin:20260425T093000
DTEND;TZID=Europe/Berlin:20260425T130000
DTSTAMP:20260420T122336
CREATED:20260417T190009Z
LAST-MODIFIED:20260417T190009Z
UID:1404-1777109400-1777122000@unke-gruppe.de
SUMMARY:Weiterer Arbeitseinsatz auf dem alten Musenhangs
DESCRIPTION:Unsere Gruppe führt Pflegearbeiten am alten Musenhang aus. \n \nTreffpunkt ist um 9:30 Uhr der Parkplatz im Margaretental am Forster Waldrand: \nOrtsende Nord\, Ortsausfahrt Nord\, links bergan\, zweite Kreuzung links\, nächster Weg rechts bis Parkplatz Waldeingang.
URL:https://unke-gruppe.de/veranstaltung/weiterer-arbeitseinsatz-auf-dem-alten-musenhangs-2/
LOCATION:Forst\, Forst
CATEGORIES:Arbeitseinsatz
END:VEVENT
END:VCALENDAR